BEGIN:VCALENDAR
VERSION:2.0
PRODID:-//Winchester Frederick County Historical Society - ECPv6.15.12.2//NONSGML v1.0//EN
CALSCALE:GREGORIAN
METHOD:PUBLISH
X-ORIGINAL-URL:https://winchesterhistory.org
X-WR-CALDESC:Events for Winchester Frederick County Historical Society
REFRESH-INTERVAL;VALUE=DURATION:PT1H
X-Robots-Tag:noindex
X-PUBLISHED-TTL:PT1H
BEGIN:VTIMEZONE
TZID:America/New_York
BEGIN:DAYLIGHT
TZOFFSETFROM:-0500
TZOFFSETTO:-0400
TZNAME:EDT
DTSTART:20250309T070000
END:DAYLIGHT
BEGIN:STANDARD
TZOFFSETFROM:-0400
TZOFFSETTO:-0500
TZNAME:EST
DTSTART:20251102T060000
END:STANDARD
BEGIN:DAYLIGHT
TZOFFSETFROM:-0500
TZOFFSETTO:-0400
TZNAME:EDT
DTSTART:20260308T070000
END:DAYLIGHT
BEGIN:STANDARD
TZOFFSETFROM:-0400
TZOFFSETTO:-0500
TZNAME:EST
DTSTART:20261101T060000
END:STANDARD
BEGIN:DAYLIGHT
TZOFFSETFROM:-0500
TZOFFSETTO:-0400
TZNAME:EDT
DTSTART:20270314T070000
END:DAYLIGHT
BEGIN:STANDARD
TZOFFSETFROM:-0400
TZOFFSETTO:-0500
TZNAME:EST
DTSTART:20271107T060000
END:STANDARD
END:VTIMEZONE
BEGIN:VEVENT
DTSTART;TZID=America/New_York:20260418T130000
DTEND;TZID=America/New_York:20260418T140000
DTSTAMP:20260419T173209
CREATED:20260204T172247Z
LAST-MODIFIED:20260204T172633Z
UID:2181-1776517200-1776520800@winchesterhistory.org
SUMMARY:A Photographic Study of three Important Valley of Virginia Rifles
DESCRIPTION:The rifles include the earliest in the group. The earliest with a brass box and date. The earliest with a signature. \nSpeaker:  Richard Sullivan\, Master Gunsmith at Colonial Williamsburg \nMr. Sullivan is celebrating his 40th working at his trade and stocked his first rifle as a teenager. \n  \n 
URL:https://winchesterhistory.org/event/a-photographic-study-of-three-important-valley-of-virginia-rifles/
LOCATION:Handley Regional Library\, 100 W Piccadilly St\, Winchester\, VA\, 22601\, United States
END:VEVENT
BEGIN:VEVENT
DTSTART;TZID=America/New_York:20260704T100000
DTEND;TZID=America/New_York:20260704T160000
DTSTAMP:20260419T173209
CREATED:20260209T171903Z
LAST-MODIFIED:20260209T171922Z
UID:2188-1783159200-1783180800@winchesterhistory.org
SUMMARY:July 4th Open House
DESCRIPTION:In honor of America’s 250th birthday\, George Washington Office Museum will be hosting an open house. Free admission all day. \n 
URL:https://winchesterhistory.org/event/july-4th-open-house/
LOCATION:George Washington’s Office Musem\, 32 W. Cork Street\, Winchester\, VA\, 22601\, United States
END:VEVENT
BEGIN:VEVENT
DTSTART;TZID=America/New_York:20260704T100000
DTEND;TZID=America/New_York:20260704T160000
DTSTAMP:20260419T173209
CREATED:20260209T190942Z
LAST-MODIFIED:20260209T190942Z
UID:2191-1783159200-1783180800@winchesterhistory.org
SUMMARY:July 4th Open House
DESCRIPTION:Join us in celebrating America’s 250th birthday! Free Admission all day!
URL:https://winchesterhistory.org/event/july-4th-open-house-2/
LOCATION:Stonewall Jackson’s Headquarters\, 415 N Braddock Street\, Winchester\, Va 22601\, VA\, 22601\, United States
END:VEVENT
BEGIN:VEVENT
DTSTART;TZID=America/New_York:20260704T100000
DTEND;TZID=America/New_York:20260704T160000
DTSTAMP:20260419T173209
CREATED:20260209T192523Z
LAST-MODIFIED:20260209T192523Z
UID:2194-1783159200-1783180800@winchesterhistory.org
SUMMARY:July 4th Open House
DESCRIPTION:Join us in celebrating America’s 250th birthday! Free Admission all day!
URL:https://winchesterhistory.org/event/july-4th-open-house-3/
LOCATION:Abram’s Delight Museum\, 1340 S. Pleasant Valley Road\, Winchester\, VA\, 22601\, United States
END:VEVENT
END:VCALENDAR